BEGIN:VCALENDAR
VERSION:2.0
PRODID:-//PAWLI - ECPv6.15.20//NONSGML v1.0//EN
CALSCALE:GREGORIAN
METHOD:PUBLISH
X-WR-CALNAME:PAWLI
X-ORIGINAL-URL:https://pawli.com
X-WR-CALDESC:Events for PAWLI
REFRESH-INTERVAL;VALUE=DURATION:PT1H
X-Robots-Tag:noindex
X-PUBLISHED-TTL:PT1H
BEGIN:VTIMEZONE
TZID:America/Detroit
BEGIN:DAYLIGHT
TZOFFSETFROM:-0500
TZOFFSETTO:-0400
TZNAME:EDT
DTSTART:20240310T070000
END:DAYLIGHT
BEGIN:STANDARD
TZOFFSETFROM:-0400
TZOFFSETTO:-0500
TZNAME:EST
DTSTART:20241103T060000
END:STANDARD
BEGIN:DAYLIGHT
TZOFFSETFROM:-0500
TZOFFSETTO:-0400
TZNAME:EDT
DTSTART:20250309T070000
END:DAYLIGHT
BEGIN:STANDARD
TZOFFSETFROM:-0400
TZOFFSETTO:-0500
TZNAME:EST
DTSTART:20251102T060000
END:STANDARD
BEGIN:DAYLIGHT
TZOFFSETFROM:-0500
TZOFFSETTO:-0400
TZNAME:EDT
DTSTART:20260308T070000
END:DAYLIGHT
BEGIN:STANDARD
TZOFFSETFROM:-0400
TZOFFSETTO:-0500
TZNAME:EST
DTSTART:20261101T060000
END:STANDARD
END:VTIMEZONE
BEGIN:VEVENT
DTSTART;VALUE=DATE:20250313
DTEND;VALUE=DATE:20250315
DTSTAMP:20260425T125855
CREATED:20250124T154347Z
LAST-MODIFIED:20251030T220743Z
UID:144-1741824000-1741996799@pawli.com
SUMMARY:NALI’s Region II Conference 2025
DESCRIPTION:NALI is excited to hold our Region II Conference in partnership with PAWLI in Milwaukee\, on March 13 & 14. \nWe will hold the conference at St. Kate on Thursday and Friday with a reception to start things off on Wednesday evening. \nYou can find all the details\, registration\, and links to the hotel online at: \nhttps://nalionline.org/events/region-ii-conference-2025/
URL:https://pawli.com/event/nalis-region-ii-conference-2025/
LOCATION:Saint Kate Hotel\, 509 W Wisconsin Ave\, Milwaukee\, WI\, 53203\, United States
ATTACH;FMTTYPE=image/jpeg:https://pawli.com/wp-content/uploads/2025/01/image002.jpg
END:VEVENT
END:VCALENDAR